BEGIN:VCALENDAR
VERSION:2.0
PRODID:-//Sabre//Sabre VObject 4.5.0//EN
CALSCALE:GREGORIAN
BEGIN:VEVENT
UID:sabre-vobject-7dadded1-b7d0-4ea0-93c4-571947292ed3
DTSTAMP:20260421T130525Z
LOCATION:Wrocław\, ul. Szewska 48-49
SUMMARY:Konferencja naukowa
DESCRIPTION:
DTSTART;VALUE=DATE:20260611
DTEND;VALUE=DATE:20260614
END:VEVENT
END:VCALENDAR
