BEGIN:VCALENDAR
VERSION:2.0
PRODID:-//Sabre//Sabre VObject 4.5.0//EN
CALSCALE:GREGORIAN
BEGIN:VEVENT
UID:sabre-vobject-2e99c881-b913-4274-bdd3-341abaa0eee9
DTSTAMP:20260421T133521Z
LOCATION:Instytut Historyczny UWr\, ul. Szewska 49\, Wrocław
SUMMARY:Konferencja naukowa
DESCRIPTION:
DTSTART;VALUE=DATE-TIME:20260924T070000Z
DTEND;VALUE=DATE-TIME:20260925T140000Z
END:VEVENT
END:VCALENDAR
