BEGIN:VCALENDAR
VERSION:2.0
PRODID:-//Sabre//Sabre VObject 4.5.0//EN
CALSCALE:GREGORIAN
BEGIN:VEVENT
UID:sabre-vobject-9512e30c-11e2-4280-ba85-9df79fafc2e2
DTSTAMP:20260421T134355Z
LOCATION:Wrocław - Żagań
SUMMARY:Konferencja naukowa
DESCRIPTION:
DTSTART;VALUE=DATE-TIME:20260617T080000Z
DTEND;VALUE=DATE-TIME:20260619T140000Z
END:VEVENT
END:VCALENDAR
