BEGIN:VCALENDAR
VERSION:2.0
PRODID:-//Sabre//Sabre VObject 4.5.0//EN
CALSCALE:GREGORIAN
BEGIN:VEVENT
UID:sabre-vobject-351fdf20-abb0-4ec1-a1d3-f076317c5241
DTSTAMP:20260421T125846Z
LOCATION:Audytorium\, Instytut Historyczny UWr\, ul. Szewska 49\, Wrocław
SUMMARY:80 lat WTMH
DESCRIPTION:
DTSTART;VALUE=DATE-TIME:20260421T150000Z
DTEND;VALUE=DATE-TIME:20260421T170000Z
END:VEVENT
END:VCALENDAR
