BEGIN:VCALENDAR
VERSION:2.0
PRODID:-//Sabre//Sabre VObject 4.5.0//EN
CALSCALE:GREGORIAN
BEGIN:VEVENT
UID:sabre-vobject-552f98a9-b960-48ec-a7b1-ba6615d6a719
DTSTAMP:20260421T125844Z
LOCATION:Platforma MS Teams
SUMMARY:Szewski czwartek
DESCRIPTION:
DTSTART;VALUE=DATE-TIME:20260507T160000Z
DTEND;VALUE=DATE-TIME:20260507T173000Z
END:VEVENT
END:VCALENDAR
