BEGIN:VCALENDAR
VERSION:2.0
PRODID:-//Sabre//Sabre VObject 4.5.0//EN
CALSCALE:GREGORIAN
BEGIN:VEVENT
UID:sabre-vobject-1fe42197-4c02-4cdb-a31e-03226b30588a
DTSTAMP:20260421T125750Z
LOCATION:Muzeum Miedzi w Legnicy\, ul. Partyzantów 3
SUMMARY:Debata w Legnicy
DESCRIPTION:
DTSTART;VALUE=DATE-TIME:20260424T150000Z
DTEND;VALUE=DATE-TIME:20260424T170000Z
END:VEVENT
END:VCALENDAR
